BEGIN:VCALENDAR
VERSION:2.0
PRODID:-//Ruta del Vino Cigales - ECPv5.16.3.1//NONSGML v1.0//EN
CALSCALE:GREGORIAN
METHOD:PUBLISH
X-WR-CALNAME:Ruta del Vino Cigales
X-ORIGINAL-URL:https://rutadelvinocigales.com
X-WR-CALDESC:Eventos para Ruta del Vino Cigales
BEGIN:VTIMEZONE
TZID:Europe/Madrid
BEGIN:DAYLIGHT
TZOFFSETFROM:+0100
TZOFFSETTO:+0200
TZNAME:CEST
DTSTART:20260329T010000
END:DAYLIGHT
BEGIN:STANDARD
TZOFFSETFROM:+0200
TZOFFSETTO:+0100
TZNAME:CET
DTSTART:20261025T010000
END:STANDARD
END:VTIMEZONE
BEGIN:VEVENT
DTSTART;TZID=Europe/Madrid:20260503T110000
DTEND;TZID=Europe/Madrid:20260503T140000
DTSTAMP:20260422T161532
CREATED:20260420T101816Z
LAST-MODIFIED:20260420T101816Z
UID:13429-1777806000-1777816800@rutadelvinocigales.com
SUMMARY:Apicultor por un día en Concejo Bodegas
DESCRIPTION:11h Comienzo en Concejo Bodegas de Valoria la Buena. El apicultor explicará todo sobre las abejas y miel de forma divertida y didáctica. A continuación se va hasta las colmenas en un pequeño paseo por el viñedo. Después de ‘hablar’ con las abejas\, se vuelve a la bodega a probar las mieles y catar dos vinos con dos tapas. \n\n\n	Relacionado
URL:https://rutadelvinocigales.com/evento/apicultor-por-un-dia-en-concejo-bodegas/
ATTACH;FMTTYPE=image/jpeg:https://rutadelvinocigales.com/wp-content/uploads/2026/04/WhatsApp-Image-2026-04-20-at-12.15.17.jpeg
END:VEVENT
END:VCALENDAR