BEGIN:VCALENDAR
VERSION:2.0
PRODID:-//Ruta del Vino Cigales - ECPv5.16.3.1//NONSGML v1.0//EN
CALSCALE:GREGORIAN
METHOD:PUBLISH
X-WR-CALNAME:Ruta del Vino Cigales
X-ORIGINAL-URL:https://rutadelvinocigales.com
X-WR-CALDESC:Eventos para Ruta del Vino Cigales
BEGIN:VTIMEZONE
TZID:Europe/Madrid
BEGIN:DAYLIGHT
TZOFFSETFROM:+0100
TZOFFSETTO:+0200
TZNAME:CEST
DTSTART:20250330T010000
END:DAYLIGHT
BEGIN:STANDARD
TZOFFSETFROM:+0200
TZOFFSETTO:+0100
TZNAME:CET
DTSTART:20251026T010000
END:STANDARD
END:VTIMEZONE
BEGIN:VEVENT
DTSTART;TZID=Europe/Madrid:20251004T200000
DTEND;TZID=Europe/Madrid:20251004T200000
DTSTAMP:20260422T203811
CREATED:20250929T063916Z
LAST-MODIFIED:20250929T063916Z
UID:13270-1759608000-1759608000@rutadelvinocigales.com
SUMMARY:Concierto Canción Española Santa María de Palazuelos
DESCRIPTION:María del Alba. Canción española \nEnrique Castro. Piano y dirección musical \nMaxi Castro. Piano \n  \nDespués de la actuación se ofrece una degustación de vino y queso de la zona. \nContacto: \nsantamariadepalazuelos@gmail.com \n686 934 850 – 670 613 282 \n\n\n	Relacionado
URL:https://rutadelvinocigales.com/evento/concierto-cancion-espanola-santa-maria-de-palazuelos/
ATTACH;FMTTYPE=image/jpeg:https://rutadelvinocigales.com/wp-content/uploads/2025/09/WhatsApp-Image-2025-09-28-at-18.23.21.jpeg
END:VEVENT
END:VCALENDAR