BEGIN:VCALENDAR
VERSION:2.0
PRODID:-//Ruta del Vino Cigales - ECPv5.16.3.1//NONSGML v1.0//EN
CALSCALE:GREGORIAN
METHOD:PUBLISH
X-WR-CALNAME:Ruta del Vino Cigales
X-ORIGINAL-URL:https://rutadelvinocigales.com
X-WR-CALDESC:Eventos para Ruta del Vino Cigales
BEGIN:VTIMEZONE
TZID:Europe/Madrid
BEGIN:DAYLIGHT
TZOFFSETFROM:+0100
TZOFFSETTO:+0200
TZNAME:CEST
DTSTART:20220327T010000
END:DAYLIGHT
BEGIN:STANDARD
TZOFFSETFROM:+0200
TZOFFSETTO:+0100
TZNAME:CET
DTSTART:20221030T010000
END:STANDARD
END:VTIMEZONE
BEGIN:VEVENT
DTSTART;TZID=Europe/Madrid:20220618T200000
DTEND;TZID=Europe/Madrid:20220618T213000
DTSTAMP:20260422T153843
CREATED:20220531T092856Z
LAST-MODIFIED:20220531T092856Z
UID:12134-1655582400-1655587800@rutadelvinocigales.com
SUMMARY:Concierto de Paco Díez
DESCRIPTION:Relacionado
URL:https://rutadelvinocigales.com/evento/concierto-de-paco-diez/
LOCATION:Monasterio Santa María de Palazuelos\, Autovia A-62\, Salida 109\, Cabezón de Pisuerga\, Valladolid\, 47260\, España
ATTACH;FMTTYPE=image/jpeg:https://rutadelvinocigales.com/wp-content/uploads/2022/05/ConciertoPacoDiez_page-0001.jpg
ORGANIZER;CN="Asociaci%C3%B3n%20Amigos%20del%20Monasterio%20de%20Palazuelos":MAILTO:santamariadepalazuelos@gmail.com
END:VEVENT
END:VCALENDAR