BEGIN:VCALENDAR
VERSION:2.0
PRODID:-//Ruta del Vino Cigales - ECPv5.16.3.1//NONSGML v1.0//EN
CALSCALE:GREGORIAN
METHOD:PUBLISH
X-WR-CALNAME:Ruta del Vino Cigales
X-ORIGINAL-URL:https://rutadelvinocigales.com
X-WR-CALDESC:Eventos para Ruta del Vino Cigales
BEGIN:VTIMEZONE
TZID:Europe/Madrid
BEGIN:DAYLIGHT
TZOFFSETFROM:+0100
TZOFFSETTO:+0200
TZNAME:CEST
DTSTART:20250330T010000
END:DAYLIGHT
BEGIN:STANDARD
TZOFFSETFROM:+0200
TZOFFSETTO:+0100
TZNAME:CET
DTSTART:20251026T010000
END:STANDARD
END:VTIMEZONE
BEGIN:VEVENT
DTSTART;TZID=Europe/Madrid:20251019T190000
DTEND;TZID=Europe/Madrid:20251019T190000
DTSTAMP:20260422T161851
CREATED:20251015T065223Z
LAST-MODIFIED:20251015T065223Z
UID:13293-1760900400-1760900400@rutadelvinocigales.com
SUMMARY:Concierto Valle de Aguas
DESCRIPTION:Concierto en Santa María de Palazuelos organizado por el Ayuntamiento de Cabezón. \nEl 19 de octubre a las 19h ‘Mi gran noche’. \n\n\n	Relacionado
URL:https://rutadelvinocigales.com/evento/concierto-valle-de-aguas/
ATTACH;FMTTYPE=image/jpeg:https://rutadelvinocigales.com/wp-content/uploads/2025/10/Acontraluz2025_.jpg
END:VEVENT
END:VCALENDAR