BEGIN:VCALENDAR
VERSION:2.0
PRODID:-//Ruta del Vino Cigales - ECPv5.16.3.1//NONSGML v1.0//EN
CALSCALE:GREGORIAN
METHOD:PUBLISH
X-WR-CALNAME:Ruta del Vino Cigales
X-ORIGINAL-URL:https://rutadelvinocigales.com
X-WR-CALDESC:Eventos para Ruta del Vino Cigales
BEGIN:VTIMEZONE
TZID:Europe/Madrid
BEGIN:DAYLIGHT
TZOFFSETFROM:+0100
TZOFFSETTO:+0200
TZNAME:CEST
DTSTART:20220327T010000
END:DAYLIGHT
BEGIN:STANDARD
TZOFFSETFROM:+0200
TZOFFSETTO:+0100
TZNAME:CET
DTSTART:20221030T010000
END:STANDARD
END:VTIMEZONE
BEGIN:VEVENT
DTSTART;VALUE=DATE:20220619
DTEND;VALUE=DATE:20220620
DTSTAMP:20260422T105612
CREATED:20220606T190909Z
LAST-MODIFIED:20220606T191103Z
UID:12160-1655596800-1655683199@rutadelvinocigales.com
SUMMARY:Encuentro de radioaficionados
DESCRIPTION:Relacionado
URL:https://rutadelvinocigales.com/evento/encuentro-de-radioaficionados/
LOCATION:San Martín de Valvení\, Plaza Mayor\, 1\, San Martín de Valvení\, Valladolid\, 47209\, España
ATTACH;FMTTYPE=image/jpeg:https://rutadelvinocigales.com/wp-content/uploads/2022/06/f45f7d2c-7ec1-4984-9558-749fad41c4e8.jpg
ORGANIZER;CN="Ayuntamiento%20San%20Mart%C3%ADn%20de%20Valven%C3%AD":MAILTO:alcaldia@sanmartindevalveni.gob.es
END:VEVENT
END:VCALENDAR