BEGIN:VCALENDAR
VERSION:2.0
PRODID:-//Ruta del Vino Cigales - ECPv5.16.3.1//NONSGML v1.0//EN
CALSCALE:GREGORIAN
METHOD:PUBLISH
X-WR-CALNAME:Ruta del Vino Cigales
X-ORIGINAL-URL:https://rutadelvinocigales.com
X-WR-CALDESC:Eventos para Ruta del Vino Cigales
BEGIN:VTIMEZONE
TZID:Europe/Madrid
BEGIN:DAYLIGHT
TZOFFSETFROM:+0100
TZOFFSETTO:+0200
TZNAME:CEST
DTSTART:20250330T010000
END:DAYLIGHT
BEGIN:STANDARD
TZOFFSETFROM:+0200
TZOFFSETTO:+0100
TZNAME:CET
DTSTART:20251026T010000
END:STANDARD
END:VTIMEZONE
BEGIN:VEVENT
DTSTART;TZID=Europe/Madrid:20250906T100000
DTEND;TZID=Europe/Madrid:20250906T233000
DTSTAMP:20260422T161829
CREATED:20250812T061010Z
LAST-MODIFIED:20250812T061010Z
UID:13234-1757152800-1757201400@rutadelvinocigales.com
SUMMARY:Entre Uvas y Abejas
DESCRIPTION:Visita a colmenas ubicadas entre viñedos. Se podrá conocer de primera mano las variedades locales centenarias de uva del Cerrato y los trabajos que se realizan de forma tradicional para su cuidado\, así como acercarse al trabajo del animal más importante del planeta\, las abejas\, que son parte fundamental de la biodiversidad. También se podrá acceder a las colmenas con un traje de apicultor o acercarse a este mundo a través de un cajón didáctico preparado para ello. \nIncluye el paseo guiado entre los viñedos para llegar al colmenar\, la visita con los trajes de apicultor y una cata de 3 vinos (para los adultos)\, miel y queso. \n\n\n	Relacionado
URL:https://rutadelvinocigales.com/evento/entre-uvas-y-abejas-2/
ATTACH;FMTTYPE=image/jpeg:https://rutadelvinocigales.com/wp-content/uploads/2025/08/Cartel-6-sept-Entre-uvas-y-abejas.jpg
END:VEVENT
END:VCALENDAR