BEGIN:VCALENDAR
VERSION:2.0
PRODID:-//Ruta del Vino Cigales - ECPv5.16.3.1//NONSGML v1.0//EN
CALSCALE:GREGORIAN
METHOD:PUBLISH
X-WR-CALNAME:Ruta del Vino Cigales
X-ORIGINAL-URL:https://rutadelvinocigales.com
X-WR-CALDESC:Eventos para Ruta del Vino Cigales
BEGIN:VTIMEZONE
TZID:Europe/Madrid
BEGIN:DAYLIGHT
TZOFFSETFROM:+0100
TZOFFSETTO:+0200
TZNAME:CEST
DTSTART:20250330T010000
END:DAYLIGHT
BEGIN:STANDARD
TZOFFSETFROM:+0200
TZOFFSETTO:+0100
TZNAME:CET
DTSTART:20251026T010000
END:STANDARD
END:VTIMEZONE
BEGIN:VEVENT
DTSTART;TZID=Europe/Madrid:20250920T090000
DTEND;TZID=Europe/Madrid:20250920T233000
DTSTAMP:20260422T191740
CREATED:20250901T062243Z
LAST-MODIFIED:20250901T062322Z
UID:13241-1758358800-1758411000@rutadelvinocigales.com
SUMMARY:Fiesta de la Vendimia Cigales
DESCRIPTION:11:00 h. Apertura de la Muestra de Oficios en el entorno de la Iglesia.\n\n\n\n\n\n\n11:30 a 14:00 h. Talleres de artesanía.\n\n\n\n\n\n\n12:00 h. Paseo de Chiquibueyes en la calle Armas.\n\n\n\n\n\n\n13:00 h. Apertura de la Feria de Día en la Plaza Mayor.\n\n\n\n\n\n\n13:00 h. Taller de tiro con arco en el Parque Municipal.\n\n\n\n\n\n\n13:30 h. Concierto del dúo acústico Miguel Montero y Zhoe Vall en la Plaza Mayor.\n\n\n\n\n\n\n16:00 h. Concierto flamenco Cerrado por Vacaciones en la Terraza del Clandestino.\n\n\n\n\n\n\n17:00 h. Continuación de la Muestra de Oficios.\n\n\n\n\n\n\n17:30 a 20:30 h. Talleres de artesanía.\n\n\n\n\n\n\n17:45 h. Recepción de autoridades en el Ayuntamiento.\n\n\n\n\n\n\n18:00 h. Misa Castellana en la Iglesia de Santiago Apóstol.\n\n\n\n\n\n\n18:00 h. Venta del Bocadillo Típico de la Fiesta de la Vendimia. Carnicería La Maruja (C/ El Agua\, 4).\n\n\n\n\n\n\n18:00 h. Sesión de DJ Nelson Daza en la Terraza del Clandestino.\n\n\n\n\n\n\n18:45 h. Pasacalles de bodegueros y autoridades desde la Casa de Cultura Vacceos.\n\n\n\n\n\n\n19:00 h. En la Plaza del Lagunajo: Imposición de Bandas\, Proclamación de la Bodeguera Mayor y tradicional Pisado de la Uva.\n\n\n\n\n\n\n19:30 h. Pregón XLV Feria del Vino a cargo de Arturo Dueñas Herrero.\n\n\n\n\n\n\n19:45 h. Entrega de la distinción a Doña Águeda del Val Ubierna y premios del VI Concurso Fotográfico del Envero.\n\n\n\n\n\n\n19:30 a 22:00 h. Feria del Vino en la Plaza del Lagunajo\, con bodegas de Cigales\, invitados de la DO Rías Baixas y vinos de Cambados. Catavino: 2€.\n\n\n\n\n\n\n20:00 h. XLIV Encuentro de Folklore en la Plaza del Lagunajo.\n\n\n\n\n\n\n21:00 h. Concierto de Los Patricios en la Terraza del Clandestino.\n\n\n\n\n\n\n22:00 h. Concierto Sabinadas (tributo a Joaquín Sabina) en la Plaza Mayor.\n\n\n\n\n\n\n23:00 h. Sesión de DJ RDFER en la Terraza del Clandestino.\n\n\n\n\n\n\n23:30 h. Macro discomóvil Electromoon en la Plaza Mayor.\n\n\n\n\n\n	Relacionado
URL:https://rutadelvinocigales.com/evento/fiesta-de-la-vendimia-cigales/
ATTACH;FMTTYPE=image/webp:https://rutadelvinocigales.com/wp-content/uploads/2025/09/11zon_Programa-XLV-Fiesta-de-la-Vendimia-de-Cigales_4_11zon-840x675-1.webp
END:VEVENT
END:VCALENDAR