BEGIN:VCALENDAR
VERSION:2.0
PRODID:-//Ruta del Vino Cigales - ECPv5.16.3.1//NONSGML v1.0//EN
CALSCALE:GREGORIAN
METHOD:PUBLISH
X-WR-CALNAME:Ruta del Vino Cigales
X-ORIGINAL-URL:https://rutadelvinocigales.com
X-WR-CALDESC:Eventos para Ruta del Vino Cigales
BEGIN:VTIMEZONE
TZID:Europe/Madrid
BEGIN:DAYLIGHT
TZOFFSETFROM:+0100
TZOFFSETTO:+0200
TZNAME:CEST
DTSTART:20240331T010000
END:DAYLIGHT
BEGIN:STANDARD
TZOFFSETFROM:+0200
TZOFFSETTO:+0100
TZNAME:CET
DTSTART:20241027T010000
END:STANDARD
END:VTIMEZONE
BEGIN:VEVENT
DTSTART;TZID=Europe/Madrid:20240406T100000
DTEND;TZID=Europe/Madrid:20240407T200000
DTSTAMP:20260422T161900
CREATED:20240326T111244Z
LAST-MODIFIED:20240326T182347Z
UID:12826-1712397600-1712520000@rutadelvinocigales.com
SUMMARY:FIESTA MEDIEVAL FUENSALDAÑA
DESCRIPTION:FIESTA MEDIEVAL EN EL CASTILLO DE FUENSALDAÑA EL 6 Y 7 DE ABRIL \n \n\n\n	Relacionado
URL:https://rutadelvinocigales.com/evento/fiesta-medieval-fuensaldana/
LOCATION:Castillo Fuensaldaña\, Fuensaldaña\, Valladolid\, España
ATTACH;FMTTYPE=image/jpeg:https://rutadelvinocigales.com/wp-content/uploads/2024/03/Castillo-Fuensaldana-Festival-Medieval-Edward-Cooper-scaled.jpg
END:VEVENT
END:VCALENDAR