BEGIN:VCALENDAR
VERSION:2.0
PRODID:-//Ruta del Vino Cigales - ECPv5.16.3.1//NONSGML v1.0//EN
CALSCALE:GREGORIAN
METHOD:PUBLISH
X-WR-CALNAME:Ruta del Vino Cigales
X-ORIGINAL-URL:https://rutadelvinocigales.com
X-WR-CALDESC:Eventos para Ruta del Vino Cigales
BEGIN:VTIMEZONE
TZID:Europe/Madrid
BEGIN:DAYLIGHT
TZOFFSETFROM:+0100
TZOFFSETTO:+0200
TZNAME:CEST
DTSTART:20220327T010000
END:DAYLIGHT
BEGIN:STANDARD
TZOFFSETFROM:+0200
TZOFFSETTO:+0100
TZNAME:CET
DTSTART:20221030T010000
END:STANDARD
END:VTIMEZONE
BEGIN:VEVENT
DTSTART;TZID=Europe/Madrid:20220611T113000
DTEND;TZID=Europe/Madrid:20220611T133000
DTSTAMP:20260422T220205
CREATED:20220531T110311Z
LAST-MODIFIED:20220531T110526Z
UID:12139-1654947000-1654954200@rutadelvinocigales.com
SUMMARY:IV Concurso de Vinos Caseros
DESCRIPTION:Descargar las bases AQUÍ. \n\n\n	Relacionado
URL:https://rutadelvinocigales.com/evento/iv-concurso-de-vinos-caseros-2/
LOCATION:Dueñas\, C/ Abilio Calderón\, s/n\, Dueñas\, Palencia\, 34210\, España
ATTACH;FMTTYPE=image/jpeg:https://rutadelvinocigales.com/wp-content/uploads/2022/05/Cartel-vino-casero_V2_01_IG-scaled.jpg
END:VEVENT
END:VCALENDAR