BEGIN:VCALENDAR
VERSION:2.0
PRODID:-//Ruta del Vino Cigales - ECPv5.16.3.1//NONSGML v1.0//EN
CALSCALE:GREGORIAN
METHOD:PUBLISH
X-WR-CALNAME:Ruta del Vino Cigales
X-ORIGINAL-URL:https://rutadelvinocigales.com
X-WR-CALDESC:Eventos para Ruta del Vino Cigales
BEGIN:VTIMEZONE
TZID:Europe/Madrid
BEGIN:DAYLIGHT
TZOFFSETFROM:+0100
TZOFFSETTO:+0200
TZNAME:CEST
DTSTART:20220327T010000
END:DAYLIGHT
BEGIN:STANDARD
TZOFFSETFROM:+0200
TZOFFSETTO:+0100
TZNAME:CET
DTSTART:20221030T010000
END:STANDARD
END:VTIMEZONE
BEGIN:VEVENT
DTSTART;TZID=Europe/Madrid:20220611T190000
DTEND;TZID=Europe/Madrid:20220611T203000
DTSTAMP:20260422T202728
CREATED:20220517T120537Z
LAST-MODIFIED:20220517T120537Z
UID:12115-1654974000-1654979400@rutadelvinocigales.com
SUMMARY:Las Catas de Palazuelos: Matarromera
DESCRIPTION:Relacionado
URL:https://rutadelvinocigales.com/evento/las-catas-de-palazuelos-matarromera/
LOCATION:Monasterio Santa María de Palazuelos\, Autovia A-62\, Salida 109\, Cabezón de Pisuerga\, Valladolid\, 47260\, España
ATTACH;FMTTYPE=image/jpeg:https://rutadelvinocigales.com/wp-content/uploads/2022/05/Cartelweb.jpg
ORGANIZER;CN="Ayuntamiento%20de%20Cabez%C3%B3n%20de%20Pisuerga":MAILTO:turismo@aytocabezondepisuerga.es
END:VEVENT
END:VCALENDAR